BEGIN:VCALENDAR
VERSION:2.0
PRODID:-//Rotorua Basketball - ECPv6.15.20//NONSGML v1.0//EN
CALSCALE:GREGORIAN
METHOD:PUBLISH
X-WR-CALNAME:Rotorua Basketball
X-ORIGINAL-URL:https://rotorua.basketball
X-WR-CALDESC:Events for Rotorua Basketball
REFRESH-INTERVAL;VALUE=DURATION:PT1H
X-Robots-Tag:noindex
X-PUBLISHED-TTL:PT1H
BEGIN:VTIMEZONE
TZID:UTC
BEGIN:STANDARD
TZOFFSETFROM:+0000
TZOFFSETTO:+0000
TZNAME:UTC
DTSTART:20210101T000000
END:STANDARD
END:VTIMEZONE
BEGIN:VEVENT
DTSTART;TZID=UTC:20221123T080000
DTEND;TZID=UTC:20221123T170000
DTSTAMP:20260420T142436
CREATED:20221123T120635Z
LAST-MODIFIED:20221123T122122Z
UID:10000002-1669190400-1669222800@rotorua.basketball
SUMMARY:Test Event 2
DESCRIPTION:Winners’ trophy \nMedals – Gold\, Silver\, Bronze \nDisco Night & Free Sausage Sizzle’n Drink \n  \nVenue: Tui Ridge Park \nDates: Labour Weekend (Saturday – Monday)
URL:https://rotorua.basketball/event/test-event-2/
CATEGORIES:Home
ATTACH;FMTTYPE=image/jpeg:https://rotorua.basketball/wp-content/uploads/2022/11/qvyfqzkrujaajagycppz4i5u3m_1600x1038.jpeg
END:VEVENT
BEGIN:VEVENT
DTSTART;TZID=UTC:20221123T080000
DTEND;TZID=UTC:20221123T170000
DTSTAMP:20260420T142436
CREATED:20221123T120541Z
LAST-MODIFIED:20221123T120541Z
UID:10000001-1669190400-1669222800@rotorua.basketball
SUMMARY:Test Event 1
DESCRIPTION:“Rotovegas Labour Weekend” is a basketball tournament for U11s & U13s. \n* U11 Boys – A Grade; B Grade; Develt Grade \n* U11 Girls –  A Grade; B Grade; Develt Grade \n* U13 Boys –  A Grade; B Grade; Develt Grade \n* U13 Girls –  A Grade; B Grade; Develt Grade
URL:https://rotorua.basketball/event/test-event-1/
ATTACH;FMTTYPE=image/jpeg:https://rotorua.basketball/wp-content/uploads/2022/11/65775658_1062087160647975_4173308533409841152_n.jpeg
END:VEVENT
END:VCALENDAR